BEGIN:VCALENDAR
VERSION:2.0
PRODID:-//Pirep.io//iCal 1.0//EN
BEGIN:VEVENT
SUMMARY:Flying Start
DTSTART:20260516T140000Z
DTEND:20260516T170000Z
URL:https://eaa.org/eaa/event/emmakisselevgmailcomFlying-Start051620260900?id=C93B2762187F476F8624C7A9FE19D097
DESCRIPTION:Visit https://pirep.io/airports/8T8 for event details.
LOCATION:https://eaa.org/eaa/event/emmakisselevgmailcomFlying-Start051620260900?id=C93B2762187F476F8624C7A9FE19D097
END:VEVENT
END:VCALENDAR
