BEGIN:VCALENDAR
VERSION:2.0
PRODID:-//Pirep.io//iCal 1.0//EN
BEGIN:VEVENT
SUMMARY:Pancake Breakfast/YEs and Car Show
DTSTART:20260425T120000Z
DTEND:20260425T160000Z
URL:https://eaa.org/eaa/event/GutsPancake-BreakfastYEs-and-Car-Show042520260800?id=F5B1AAFEB5264B429D8710B08BCE1745
DESCRIPTION:Visit https://pirep.io/airports/N57 for event details.
LOCATION:https://eaa.org/eaa/event/GutsPancake-BreakfastYEs-and-Car-Show042520260800?id=F5B1AAFEB5264B429D8710B08BCE1745
END:VEVENT
END:VCALENDAR
