BEGIN:VCALENDAR
VERSION:2.0
PRODID:-//Pirep.io//iCal 1.0//EN
BEGIN:VEVENT
SUMMARY:AOPA Rusty Pilots Seminar at Fort Meade Exec Airport (FME)
DTSTART:20260613T130000Z
DTEND:20260613T163000Z
DESCRIPTION:Visit https://pirep.io/airports/FME for event details.
LOCATION:https://pirep.io/airports/FME
END:VEVENT
END:VCALENDAR
