BEGIN:VCALENDAR
VERSION:2.0
PRODID:-//Pirep.io//iCal 1.0//EN
BEGIN:VEVENT
SUMMARY:Wings and Wheels Young Eagles Rally
DTSTART:20260425T070000Z
DTEND:20260425T220000Z
URL:https://eaa.org/eaa/event/TracywelchWings-and-Wheels-Young-Eagles-Rally042520261200?id=51F697E87EED4743894BCE3A0D2500BC
DESCRIPTION:Visit https://pirep.io/airports/1S9 for event details.
LOCATION:https://eaa.org/eaa/event/TracywelchWings-and-Wheels-Young-Eagles-Rally042520261200?id=51F697E87EED4743894BCE3A0D2500BC
END:VEVENT
END:VCALENDAR
